BEGIN:VCALENDAR
PRODID:-//Bizzabo//EN
VERSION:2.0
BEGIN:VEVENT
UID:event-732710
ORGANIZER;CN="WIPR Summit 2026":mailto:marketing@newtonmedia.co.uk
DTSTAMP:20260422T152253Z
DTSTART:20260310T120000Z
DTEND:20260312T010000Z
SUMMARY:WIPR Summit 2026
DESCRIPTION:World IP Review Summit brings together the leading IP practi
 tioners from across the US for a unique and groundbreaking e
 vent.\n\nHear industry leaders discuss the state of the indu
 stry in keynote presentations and informative panel discussi
 ons, join interactive workshops and roundtable discussions, 
 and collaborate with your peers in unparalleled networking o
 pportunities.  \n\nThrough case study examples and best prac
 tices, our comprehensive agenda has been crafted to provide 
 you with the insight that you need to drive your business fo
 rward.\n\n\nhttps://events.newton.media/WIPR-Summit-2026/age
 nda
LOCATION:Chicago, Illinois 60611, USA
END:VEVENT
END:VCALENDAR